BEGIN:VCALENDAR
VERSION:2.0
PRODID:-//summitcasagal.org//NONSGML kigkonsult.se iCalcreator 2.30.10//
CALSCALE:GREGORIAN
METHOD:PUBLISH
UID:d5d508ed-5964-4cac-8b04-939744202d38
X-WR-CALDESC:Presented by the Trauma and Wellness Institute\nThis presentat
 ion will explore risk factors for youth who may be exposed to human traffi
 cking. Signs and symptoms as well as a case study will be explored.
X-WR-RELCALID:c073e622a2c22d7cbd49a61e3282c113
X-WR-TIMEZONE:America/New_York
BEGIN:VTIMEZONE
TZID:America/New_York
BEGIN:STANDARD
TZNAME:EST
DTSTART:20221106T020000
TZOFFSETFROM:-0400
TZOFFSETTO:-0500
RDATE:20231105T020000
RDATE:20241103T020000
END:STANDARD
BEGIN:DAYLIGHT
TZNAME:EDT
DTSTART:20230312T020000
TZOFFSETFROM:-0500
TZOFFSETTO:-0400
RDATE:20240310T020000
END:DAYLIGHT
END:VTIMEZONE
BEGIN:VEVENT
UID:5186e43d-d3f6-4a8c-8edf-154326f551a2
DTSTAMP:20260424T080919Z
DESCRIPTION:Presented by the Trauma and Wellness Institute\nThis presentati
 on will explore risk factors for youth who may be exposed to human traffic
 king. Signs and symptoms as well as a case study will be explored.
DTSTART;TZID=America/New_York:20230724T100000
DTEND;TZID=America/New_York:20230724T113000
LOCATION:ZOOM
SUMMARY:In-Service Training: Human Trafficking: Adolescents and Teens
END:VEVENT
END:VCALENDAR
