BEGIN:VCALENDAR
VERSION:2.0
PRODID:-//summitcasagal.org//NONSGML kigkonsult.se iCalcreator 2.30.10//
CALSCALE:GREGORIAN
METHOD:PUBLISH
UID:ef6ef70d-7bf5-4907-ae86-189be6c91589
X-WR-CALDESC:Join us for this free fundraising breakfast to celebrate the w
 inner of the 2025 William P. Kannel Award\, APD Chief Brian Harding.
X-WR-RELCALID:06bb0c46f24a0235f2a1df7badaec6bb
X-WR-TIMEZONE:America/New_York
BEGIN:VTIMEZONE
TZID:America/New_York
BEGIN:STANDARD
TZNAME:EST
DTSTART:20241103T020000
TZOFFSETFROM:-0400
TZOFFSETTO:-0500
RDATE:20251102T020000
RDATE:20261101T020000
END:STANDARD
BEGIN:DAYLIGHT
TZNAME:EDT
DTSTART:20250309T020000
TZOFFSETFROM:-0500
TZOFFSETTO:-0400
RDATE:20260308T020000
RDATE:20270314T020000
END:DAYLIGHT
END:VTIMEZONE
BEGIN:VEVENT
UID:168bca67-5b43-4ff7-a4ec-d0347950acea
DTSTAMP:20260424T125314Z
DESCRIPTION:Join us for this free fundraising breakfast to celebrate the wi
 nner of the 2025 William P. Kannel Award\, APD Chief Brian Harding.
DTSTART;TZID=America/New_York:20251016T073000
DTEND;TZID=America/New_York:20251016T090000
LOCATION:452 East Warner Road\, Akron\, OH 44319 US
SUMMARY:13th Annual CASA/GAL Program of Summit County Breakfast Fundraiser 
 “I AM FOR THE CHILD: MISSION POSSIBLE”
END:VEVENT
END:VCALENDAR
