BEGIN:VCALENDAR
VERSION:2.0
PRODID:-//summitcasagal.org//NONSGML kigkonsult.se iCalcreator 2.30.10//
CALSCALE:GREGORIAN
METHOD:PUBLISH
UID:763fe2a1-e783-4d4b-bb60-07b99ba8537e
X-WR-CALDESC:Enjoy a night of great food\, old school arcade games\, and be
 er flights at a local brewery in Downtown Akron while learning how you can
  make a difference in a child’s life as a Court Appointed Special Advocate
  (CASA) volunteer.\n\nJoin us for a males only awareness event and bring a
  like minded friend\, colleague\, neighbor\, or family member to learn how
  we can make our community stronger.\n\nNo obligation — just good times an
 d great company. Find out how you can step up for kids in need. Because ev
 ery child deserves a champion!
X-WR-RELCALID:d89eb697ebc80d55458a8554d0c7aa07
X-WR-TIMEZONE:America/New_York
BEGIN:VTIMEZONE
TZID:America/New_York
BEGIN:STANDARD
TZNAME:EST
DTSTART:20251102T020000
TZOFFSETFROM:-0400
TZOFFSETTO:-0500
RDATE:20261101T020000
END:STANDARD
BEGIN:DAYLIGHT
TZNAME:EDT
DTSTART:20250309T020000
TZOFFSETFROM:-0500
TZOFFSETTO:-0400
RDATE:20260308T020000
RDATE:20270314T020000
END:DAYLIGHT
END:VTIMEZONE
BEGIN:VEVENT
UID:100bca99-388d-4854-be95-7fdf3fa87427
DTSTAMP:20260424T112112Z
DESCRIPTION:Enjoy a night of great food\, old school arcade games\, and bee
 r flights at a local brewery in Downtown Akron while learning how you can 
 make a difference in a child’s life as a Court Appointed Special Advocate 
 (CASA) volunteer.\n\nJoin us for a males only awareness event and bring a 
 like minded friend\, colleague\, neighbor\, or family member to learn how 
 we can make our community stronger.\n\nNo obligation — just good times and
  great company. Find out how you can step up for kids in need. Because eve
 ry child deserves a champion!
DTSTART;TZID=America/New_York:20251117T173000
DTEND;TZID=America/New_York:20251117T200000
LOCATION:Missing Falls Brewery\, 540 S. Main Street TE 112\, Akron\, OH 443
 11 US
SUMMARY:Men of CASA: Champions for Kids
END:VEVENT
END:VCALENDAR
