BEGIN:VCALENDAR
VERSION:2.0
PRODID:-//summitcasagal.org//NONSGML kigkonsult.se iCalcreator 2.30.10//
CALSCALE:GREGORIAN
METHOD:PUBLISH
UID:01e9026f-8b2a-42ef-bdfc-59832e7d663a
X-WR-CALDESC:Ohio CASA is sponsoring 'CASA Day at the Cleveland Guardians'.
  Game is 6:40pm. Tickets will be purchased by the CASA Board and send to t
 he attendee via email and the MLB App. Ticket includes a baseball themed t
 -shirt. One t-shirt per ticket. Limit two tickets per CASA.
X-WR-RELCALID:d3edf7e457acb96ed7f14abcca40bf84
X-WR-TIMEZONE:America/New_York
BEGIN:VTIMEZONE
TZID:America/New_York
BEGIN:STANDARD
TZNAME:EST
DTSTART:20251102T020000
TZOFFSETFROM:-0400
TZOFFSETTO:-0500
RDATE:20261101T020000
RDATE:20271107T020000
END:STANDARD
BEGIN:DAYLIGHT
TZNAME:EDT
DTSTART:20260308T020000
TZOFFSETFROM:-0500
TZOFFSETTO:-0400
RDATE:20270314T020000
END:DAYLIGHT
END:VTIMEZONE
BEGIN:VEVENT
UID:85f8a9b2-c839-4f84-bbb6-e20a6cb8f351
DTSTAMP:20260424T083002Z
DESCRIPTION:Ohio CASA is sponsoring 'CASA Day at the Cleveland Guardians'. 
 Game is 6:40pm. Tickets will be purchased by the CASA Board and send to th
 e attendee via email and the MLB App. Ticket includes a baseball themed t-
 shirt. One t-shirt per ticket. Limit two tickets per CASA.
DTSTART;TZID=America/New_York:20260722T060000
DTEND;TZID=America/New_York:20260722T060001
LOCATION:'at the corner of Carnegie & Ontario' -Tom Hamilton
SUMMARY:CASA Day at Cleveland Guardians
END:VEVENT
END:VCALENDAR
