BEGIN:VCALENDAR
VERSION:2.0
PRODID:-//summitcasagal.org//NONSGML kigkonsult.se iCalcreator 2.30.10//
CALSCALE:GREGORIAN
METHOD:PUBLISH
UID:701a8591-49a8-4d60-a54a-cb26cabcd06e
X-WR-CALDESC:Join us to celebrate the newest group of Court Appointed Speci
 al Advocates/Guardian ad Litem volunteers! Contact Sarah for more informat
 ion.
X-WR-RELCALID:5df0266253cdf3faf30e2629edc628fb
X-WR-TIMEZONE:America/New_York
BEGIN:VTIMEZONE
TZID:America/New_York
BEGIN:STANDARD
TZNAME:EST
DTSTART:20261101T020000
TZOFFSETFROM:-0400
TZOFFSETTO:-0500
RDATE:20271107T020000
END:STANDARD
BEGIN:DAYLIGHT
TZNAME:EDT
DTSTART:20260308T020000
TZOFFSETFROM:-0500
TZOFFSETTO:-0400
RDATE:20270314T020000
RDATE:20280312T020000
END:DAYLIGHT
END:VTIMEZONE
BEGIN:VEVENT
UID:22aee123-55c3-4a30-87c3-3dcee5ac69d8
DTSTAMP:20260424T141918Z
DESCRIPTION:Join us to celebrate the newest group of Court Appointed Specia
 l Advocates/Guardian ad Litem volunteers! Contact Sarah for more informati
 on.
DTSTART;TZID=America/New_York:20261112T170000
DTEND;TZID=America/New_York:20261112T180000
LOCATION:650 Dan Street\, Akron\, OH 44310 US
SUMMARY:CASA/GAL Graduation
END:VEVENT
END:VCALENDAR
