BEGIN:VCALENDAR
VERSION:2.0
PRODID:-//summitcasagal.org//NONSGML kigkonsult.se iCalcreator 2.30.10//
CALSCALE:GREGORIAN
METHOD:PUBLISH
UID:b432bc0f-a487-4778-b647-8a10789e7ef7
X-WR-CALDESC:The CASA/GAL pre-service training is a blend of independent le
 arning\, virtual group meetings\, and in-person classes for a total of 32 
 hours. This 5 week training series is offered 3 times each year.\n\nLearn 
 how you can become a Court Appointed Special Advocate/Guardian at Litem an
 d visit our Frequently Asked Questions for more information. \n\nThis trai
 ning has been partially funded through a contract between Ohio CASA and th
 e Ohio Department of Job and Family Services.  Ohio CASA supports local CA
 SA/GAL programs throughout Ohio with training\, technical assistance\, leg
 islative support\, and standards implementation so volunteers may advocate
  for abused\, neglected\, and dependent children in the court system.
X-WR-RELCALID:54f2dd8f5d1b6078a1ae84b16c904937
X-WR-TIMEZONE:America/New_York
BEGIN:VTIMEZONE
TZID:America/New_York
BEGIN:STANDARD
TZNAME:EST
DTSTART:20231105T020000
TZOFFSETFROM:-0400
TZOFFSETTO:-0500
RDATE:20241103T020000
RDATE:20251102T020000
END:STANDARD
BEGIN:DAYLIGHT
TZNAME:EDT
DTSTART:20240310T020000
TZOFFSETFROM:-0500
TZOFFSETTO:-0400
RDATE:20250309T020000
RDATE:20260308T020000
END:DAYLIGHT
END:VTIMEZONE
BEGIN:VEVENT
UID:61398069-e5d9-44ed-aa06-34a2e3a74143
DTSTAMP:20260421T090252Z
DESCRIPTION:The CASA/GAL pre-service training is a blend of independent lea
 rning\, virtual group meetings\, and in-person classes for a total of 32 h
 ours. This 5 week training series is offered 3 times each year.\n\nLearn h
 ow you can become a Court Appointed Special Advocate/Guardian at Litem and
  visit our Frequently Asked Questions for more information. \n\nThis train
 ing has been partially funded through a contract between Ohio CASA and the
  Ohio Department of Job and Family Services.  Ohio CASA supports local CAS
 A/GAL programs throughout Ohio with training\, technical assistance\, legi
 slative support\, and standards implementation so volunteers may advocate 
 for abused\, neglected\, and dependent children in the court system.
DTSTART;TZID=America/New_York:20241016T170000
DTEND;TZID=America/New_York:20241016T200000
LOCATION:650 Dan Street\, Akron\, OH 44310 US
SUMMARY:Pre-Service Training
END:VEVENT
END:VCALENDAR
